BEGIN:VCALENDAR
VERSION:2.0
PRODID:-//Chevrolet Car Club of Victoria - ECPv4.6.12//NONSGML v1.0//EN
CALSCALE:GREGORIAN
METHOD:PUBLISH
X-WR-CALNAME:Chevrolet Car Club of Victoria
X-ORIGINAL-URL:http://www.chevcarclubvic.org.au
X-WR-CALDESC:Events for Chevrolet Car Club of Victoria
BEGIN:VEVENT
DTSTART;TZID=UTC+10:20210119T183000
DTEND;TZID=UTC+10:20210119T220000
DTSTAMP:20190228T183046
CREATED:20150802T230045Z
LAST-MODIFIED:20150802T230045Z
UID:13988-1611081000-1611093600@www.chevcarclubvic.org.au
SUMMARY:Camaro / Firebird / Trans Am Group Monthly Meeting
DESCRIPTION:\nMoorabbin clubrooms. Come and enjoy a BBQ dinner from 6.30pm – ($5 – $10 for meal). Licenced Bar – (Sorry\, NO BYO).  \nMeeting starts at 8.00pm.  Topics: Events\, past and future. Hints & Tips. Show Cars. Raffle and more!  \n
URL:http://www.chevcarclubvic.org.au/event/camaro-firebird-trans-am-group-monthly-meeting/2021-01-19/
LOCATION:3 Edgecombe Court\, Moorabbin\, Victoria\, 3189\, Australia
GEO:-37.942089;145.071267
X-APPLE-STRUCTURED-LOCATION;VALUE=URI;X-ADDRESS=3 Edgecombe Court Moorabbin Victoria 3189 Australia;X-APPLE-RADIUS=500;X-TITLE=3 Edgecombe Court:geo:145.071267,-37.942089
CATEGORIES:Camaro Firebird Group,Club Event,Club Meeting
END:VEVENT
END:VCALENDAR