BEGIN:VCALENDAR
VERSION:2.0
PRODID:-//Chevrolet Car Club of Victoria - ECPv4.9.10//NONSGML v1.0//EN
CALSCALE:GREGORIAN
METHOD:PUBLISH
X-WR-CALNAME:Chevrolet Car Club of Victoria
X-ORIGINAL-URL:https://www.chevcarclubvic.org.au
X-WR-CALDESC:Events for Chevrolet Car Club of Victoria
BEGIN:VTIMEZONE
TZID:Australia/Melbourne
BEGIN:STANDARD
TZOFFSETFROM:+1100
TZOFFSETTO:+1000
TZNAME:AEST
DTSTART:20220402T160000
END:STANDARD
BEGIN:DAYLIGHT
TZOFFSETFROM:+1000
TZOFFSETTO:+1100
TZNAME:AEDT
DTSTART:20221001T160000
END:DAYLIGHT
END:VTIMEZONE
BEGIN:VEVENT
DTSTART;VALUE=DATE:20220306
DTEND;VALUE=DATE:20220307
DTSTAMP:20260419T205208
CREATED:20220109T040200Z
LAST-MODIFIED:20220109T040200Z
UID:17685-1646524800-1646611199@www.chevcarclubvic.org.au
SUMMARY:11th Isabella & Marcus Foundation Classic Car Day
DESCRIPTION:Event:               11th IMF Classic Car Day \nWhen:              Sunday 6th March 2022 \nWhere:             Bicentennial Park\, Scotch Parade\, Chelsea \nTime:                10am-3pm  Gates (open at 8.30am) \nCost:                 $20 per car entrant which includes a goodie bag with Major Raffle prize ticket.  Drawn at 1.00pm. \nTrophies:        All cars welcome.  Heaps of trophies up for grabs! Presentations at 1.30pm. \nLive Music All Day and Pin up Parade  \nFamily Fun:   Heaps for the whole family…. $10 Kids Fun Bands…jumping castles (3)\, specky machine\, animal farm\, pony rides\, face painting\, tattoos\, lolly bags…CFA… \nFood:               BBQ\, Roast\, Coffee\, Drinks\, Slushees \nTrade stalls welcome \n
URL:https://www.chevcarclubvic.org.au/event/11th-isabella-marcus-foundation-classic-car-day/
END:VEVENT
END:VCALENDAR