BEGIN:VCALENDAR
VERSION:2.0
PRODID:-//Chevrolet Car Club of Victoria - ECPv4.9.10//NONSGML v1.0//EN
CALSCALE:GREGORIAN
METHOD:PUBLISH
X-WR-CALNAME:Chevrolet Car Club of Victoria
X-ORIGINAL-URL:https://www.chevcarclubvic.org.au
X-WR-CALDESC:Events for Chevrolet Car Club of Victoria
BEGIN:VTIMEZONE
TZID:Australia/Melbourne
BEGIN:STANDARD
TZOFFSETFROM:+1100
TZOFFSETTO:+1000
TZNAME:AEST
DTSTART:20220402T160000
END:STANDARD
BEGIN:DAYLIGHT
TZOFFSETFROM:+1000
TZOFFSETTO:+1100
TZNAME:AEDT
DTSTART:20221001T160000
END:DAYLIGHT
END:VTIMEZONE
BEGIN:VEVENT
DTSTART;TZID=Australia/Melbourne:20220427T190000
DTEND;TZID=Australia/Melbourne:20220427T213000
DTSTAMP:20260419T161737
CREATED:20160229T014825Z
LAST-MODIFIED:20230102T065637Z
UID:18384-1651086000-1651095000@www.chevcarclubvic.org.au
SUMMARY:Chevrolet Car Club Committee Meeting
DESCRIPTION:
URL:https://www.chevcarclubvic.org.au/event/2022-04-27/
END:VEVENT
END:VCALENDAR