BEGIN:VCALENDAR
VERSION:2.0
PRODID:-//Chevrolet Car Club of Victoria - ECPv4.9.10//NONSGML v1.0//EN
CALSCALE:GREGORIAN
METHOD:PUBLISH
X-WR-CALNAME:Chevrolet Car Club of Victoria
X-ORIGINAL-URL:https://www.chevcarclubvic.org.au
X-WR-CALDESC:Events for Chevrolet Car Club of Victoria
BEGIN:VTIMEZONE
TZID:Australia/Melbourne
BEGIN:STANDARD
TZOFFSETFROM:+1100
TZOFFSETTO:+1000
TZNAME:AEST
DTSTART:20240406T160000
END:STANDARD
BEGIN:DAYLIGHT
TZOFFSETFROM:+1000
TZOFFSETTO:+1100
TZNAME:AEDT
DTSTART:20241005T160000
END:DAYLIGHT
END:VTIMEZONE
BEGIN:VEVENT
DTSTART;TZID=Australia/Melbourne:20241124T090000
DTEND;TZID=Australia/Melbourne:20241124T163000
DTSTAMP:20260420T122035
CREATED:20240601T103007Z
LAST-MODIFIED:20240601T104139Z
UID:19676-1732438800-1732465800@www.chevcarclubvic.org.au
SUMMARY:2024 Annual Show and Shine
DESCRIPTION:Our annual show and shine\, will be held at the Clubrooms in Edgecombe Court Moorabbin.  \nCars will be judged on the day winners and trophies announced at the club Christmas party on 8th December. \nAll cars judged will receive a Gold Silver or Bronze certificate based on the judges scores. \n  \n9am till 4.30pm. FREE BBQ LUNCH AND SOFT DRINKS.  \n
URL:https://www.chevcarclubvic.org.au/event/2024-annual-show-and-shine/
LOCATION:Club Headquarters\, 3 Edgecombe Court\, Moorabbin\, Victoria\, 3189\, Australia
CATEGORIES:Chevrolet Car Club,Club Event
GEO:-37.942089;145.071267
X-APPLE-STRUCTURED-LOCATION;VALUE=URI;X-ADDRESS=Club Headquarters 3 Edgecombe Court Moorabbin Victoria 3189 Australia;X-APPLE-RADIUS=500;X-TITLE=3 Edgecombe Court:geo:145.071267,-37.942089
END:VEVENT
END:VCALENDAR