BEGIN:VCALENDAR
VERSION:2.0
PRODID:-//Chevrolet Car Club of Victoria - ECPv4.9.10//NONSGML v1.0//EN
CALSCALE:GREGORIAN
METHOD:PUBLISH
X-WR-CALNAME:Chevrolet Car Club of Victoria
X-ORIGINAL-URL:https://www.chevcarclubvic.org.au
X-WR-CALDESC:Events for Chevrolet Car Club of Victoria
BEGIN:VTIMEZONE
TZID:Australia/Melbourne
BEGIN:STANDARD
TZOFFSETFROM:+1100
TZOFFSETTO:+1000
TZNAME:AEST
DTSTART:20260404T160000
END:STANDARD
BEGIN:DAYLIGHT
TZOFFSETFROM:+1000
TZOFFSETTO:+1100
TZNAME:AEDT
DTSTART:20261003T160000
END:DAYLIGHT
END:VTIMEZONE
BEGIN:VEVENT
DTSTART;TZID=Australia/Melbourne:20261129T090000
DTEND;TZID=Australia/Melbourne:20261129T170000
DTSTAMP:20260419T174941
CREATED:20260331T074433Z
LAST-MODIFIED:20260331T074433Z
UID:20896-1795942800-1795971600@www.chevcarclubvic.org.au
SUMMARY:2026 Annual Show and Shine
DESCRIPTION:Our annual show and shine\, will be held at the Clubrooms in Edgecombe Court Moorabbin.  \nCars will be judged on the day winners and trophies announced at the club Christmas party on 13th December. \nAll cars judged will receive a Gold Silver or Bronze certificate based on the judges scores. \n  \n9am till 4.30pm. FREE BBQ LUNCH AND SOFT DRINKS.  \n
URL:https://www.chevcarclubvic.org.au/event/2026-annual-show-and-shine/
CATEGORIES:Club Event
END:VEVENT
END:VCALENDAR