BEGIN:VCALENDAR
VERSION:2.0
PRODID:-//Chevrolet Car Club of Victoria - ECPv4.9.10//NONSGML v1.0//EN
CALSCALE:GREGORIAN
METHOD:PUBLISH
X-WR-CALNAME:Chevrolet Car Club of Victoria
X-ORIGINAL-URL:https://www.chevcarclubvic.org.au
X-WR-CALDESC:Events for Chevrolet Car Club of Victoria
BEGIN:VTIMEZONE
TZID:Australia/Melbourne
BEGIN:STANDARD
TZOFFSETFROM:+1100
TZOFFSETTO:+1000
TZNAME:AEST
DTSTART:20260404T160000
END:STANDARD
BEGIN:DAYLIGHT
TZOFFSETFROM:+1000
TZOFFSETTO:+1100
TZNAME:AEDT
DTSTART:20261003T160000
END:DAYLIGHT
END:VTIMEZONE
BEGIN:VEVENT
DTSTART;TZID=Australia/Melbourne:20261206T110000
DTEND;TZID=Australia/Melbourne:20261206T160000
DTSTAMP:20260419T161956
CREATED:20260331T074655Z
LAST-MODIFIED:20260331T074655Z
UID:20898-1796554800-1796572800@www.chevcarclubvic.org.au
SUMMARY:2026 Vic Vettes Christmas party
DESCRIPTION:Christmas roast at the clubrooms \n11am till 4pm. Fully catered event\,  roast lunch \nSoft drinks are free and alcoholic drinks are available at normal club prices. please note our liquor licence prohibits BYO  \nBookings are essential\, Phil 0432 085 007 \n
URL:https://www.chevcarclubvic.org.au/event/2026-vic-vettes-christmas-party/
CATEGORIES:Club Event
END:VEVENT
END:VCALENDAR