BEGIN:VCALENDAR
VERSION:2.0
PRODID:-//Chevrolet Car Club of Victoria - ECPv4.9.10//NONSGML v1.0//EN
CALSCALE:GREGORIAN
METHOD:PUBLISH
X-WR-CALNAME:Chevrolet Car Club of Victoria
X-ORIGINAL-URL:https://www.chevcarclubvic.org.au
X-WR-CALDESC:Events for Chevrolet Car Club of Victoria
BEGIN:VTIMEZONE
TZID:Australia/Melbourne
BEGIN:STANDARD
TZOFFSETFROM:+1100
TZOFFSETTO:+1000
TZNAME:AEST
DTSTART:20240406T160000
END:STANDARD
BEGIN:DAYLIGHT
TZOFFSETFROM:+1000
TZOFFSETTO:+1100
TZNAME:AEDT
DTSTART:20241005T160000
END:DAYLIGHT
END:VTIMEZONE
BEGIN:VEVENT
DTSTART;TZID=Australia/Melbourne:20240525T183000
DTEND;TZID=Australia/Melbourne:20240525T233000
DTSTAMP:20260421T022410
CREATED:20240122T013723Z
LAST-MODIFIED:20240430T092001Z
UID:19452-1716661800-1716679800@www.chevcarclubvic.org.au
SUMMARY:50th Birthday Dinner
DESCRIPTION:We’re having a 50th birthday dinner at the clubrooms on Saturday 25th the doors open at 6pm and the bar closes at midnight. There’s a roast with a choice of meats\, vegetables and salad and a selection of deserts. You can also indulge in some  scintillating conversation with fellow members.  There will be a (brief) presentation from our founding member Carl Kelsen and some prizes to be had.\nBookings are essential and a fee of $10 per booking is required. Apart from the booking fee dinner is free and drinks are available at normal club prices. please note our liquor licence prohibits BYO \nReservations can be made up until the Wednesday 15th of May.\nBooking and fee specifying number attending can be made using these options.\n– Phone: 95968123 (Cathy) using credit card – business hours only\n– email: committee@chevcarclubvic.org.au using bank transfer –\nBSB 083231 Acc 58 319 9508 (don’t forget to include name or member number and  number attending in the reference eg. “2diners”)     \n– In person at meetings using cash or card see Keith \n
URL:https://www.chevcarclubvic.org.au/event/50th-birthday-dinner/
CATEGORIES:Club Event
ATTACH;FMTTYPE=image/jpeg:https://www.chevcarclubvic.org.au/wp-content/uploads/2024/01/50th-Logo-ONLY-002.jpeg
END:VEVENT
END:VCALENDAR