BEGIN:VCALENDAR
VERSION:2.0
PRODID:-//Chevrolet Car Club of Victoria - ECPv4.9.10//NONSGML v1.0//EN
CALSCALE:GREGORIAN
METHOD:PUBLISH
X-WR-CALNAME:Chevrolet Car Club of Victoria
X-ORIGINAL-URL:https://www.chevcarclubvic.org.au
X-WR-CALDESC:Events for Chevrolet Car Club of Victoria
BEGIN:VTIMEZONE
TZID:Australia/Melbourne
BEGIN:STANDARD
TZOFFSETFROM:+1100
TZOFFSETTO:+1000
TZNAME:AEST
DTSTART:20170401T160000
END:STANDARD
BEGIN:DAYLIGHT
TZOFFSETFROM:+1000
TZOFFSETTO:+1100
TZNAME:AEDT
DTSTART:20170930T160000
END:DAYLIGHT
END:VTIMEZONE
BEGIN:VEVENT
DTSTART;VALUE=DATE:20170305
DTEND;VALUE=DATE:20170306
DTSTAMP:20260419T124855
CREATED:20170117T053725Z
LAST-MODIFIED:20170117T053834Z
UID:9353-1488672000-1488758399@www.chevcarclubvic.org.au
SUMMARY:7th Isabella & Marcus Fund Classic Car Day
DESCRIPTION:Event:  7th IMF Classic Car Day \nWhen:  Sunday 5th March 2017 \nWhere:  Bicentennial Park\, Scotch Parade\, Chelsea \nTime:  10am-3pm  Gates (open at 8.30am) \nCost:  $20 per car entrant which includes a goodie bag with Major Raffle prize ticket.  Drawn at 1.00pm. \nTrophies:  All cars welcome.  Heaps of trophies up for grabs! Presentations at 1.30pm. \nPin Up Parade  \nTV:  Fletch from “Classic Restos” filming an episode on the day. \nMusic:  Cadillac Drifters and Shortnote \nFamily:  Heaps for the whole family…. $10 Kids Fun Bands…jumping castles (3)\, specky machine\, animal farm\, clowns\, face painting\, tattoos\, lolly bags…Transformers Perform live on stage! \nFood:  BBQ\, Roast\, Da Bird & lots more. \nTrade stalls welcome. \n
URL:https://www.chevcarclubvic.org.au/event/7th-isabella-marcus-fund-classic-car-day/
LOCATION:Bicentennial Park\, Scotch Parade\, Chelsea\, Victoria\, Australia
GEO:-38.0514794;145.1265762
X-APPLE-STRUCTURED-LOCATION;VALUE=URI;X-ADDRESS=Bicentennial Park Scotch Parade Chelsea Victoria Australia;X-APPLE-RADIUS=500;X-TITLE=Scotch Parade:geo:145.1265762,-38.0514794
END:VEVENT
END:VCALENDAR