BEGIN:VCALENDAR
VERSION:2.0
PRODID:-//Chevrolet Car Club of Victoria - ECPv4.9.10//NONSGML v1.0//EN
CALSCALE:GREGORIAN
METHOD:PUBLISH
X-WR-CALNAME:Chevrolet Car Club of Victoria
X-ORIGINAL-URL:https://www.chevcarclubvic.org.au
X-WR-CALDESC:Events for Chevrolet Car Club of Victoria
BEGIN:VTIMEZONE
TZID:Australia/Melbourne
BEGIN:STANDARD
TZOFFSETFROM:+1100
TZOFFSETTO:+1000
TZNAME:AEST
DTSTART:20220402T160000
END:STANDARD
BEGIN:DAYLIGHT
TZOFFSETFROM:+1000
TZOFFSETTO:+1100
TZNAME:AEDT
DTSTART:20221001T160000
END:DAYLIGHT
END:VTIMEZONE
BEGIN:VEVENT
DTSTART;TZID=Australia/Melbourne:20220918T083000
DTEND;TZID=Australia/Melbourne:20220918T140000
DTSTAMP:20260419T174704
CREATED:20220902T062051Z
LAST-MODIFIED:20220902T062251Z
UID:18224-1663489800-1663509600@www.chevcarclubvic.org.au
SUMMARY:ANTI GRAVITY HILL
DESCRIPTION:NORTH WESTERN CCCV RUN FOR 2023 \n                          ANTI GRAVITY HILL \n1st meeting point \nEastern Suburbs meet at the STAMFORD HOTEL at  8.30am with 9am departure down the Monash \n2nd meeting point \nWestgate Bridge Servo Arriving around 9.40am and leaving 10am via Westgate and the Ring Road \n3rd meeting point \n7-11 Servo around  10.30am and leaving 11am heading off to the Antigravity Hill on STRAWS LANE Woodend \nlocated near Hanging Rock. \nWe will spend say 45 min horsing around then off for lunch at THE VICTORIA HOTEL  67 High St Woodend\, the oldest Hotel in Woodend established in 1861.                             \nIt is here we will stop for Lunch with an estimated arrival time at say 12.20/12.45 pm. \nThis should be a great day with Les from the West Leading the Convoy. \nBookings are required for lunch call Ian 0419 534756 \n
URL:https://www.chevcarclubvic.org.au/event/anti-gravity-hill/
END:VEVENT
END:VCALENDAR