BEGIN:VCALENDAR
VERSION:2.0
PRODID:-//Chevrolet Car Club of Victoria - ECPv4.9.10//NONSGML v1.0//EN
CALSCALE:GREGORIAN
METHOD:PUBLISH
X-WR-CALNAME:Chevrolet Car Club of Victoria
X-ORIGINAL-URL:https://www.chevcarclubvic.org.au
X-WR-CALDESC:Events for Chevrolet Car Club of Victoria
BEGIN:VTIMEZONE
TZID:Australia/Melbourne
BEGIN:STANDARD
TZOFFSETFROM:+1100
TZOFFSETTO:+1000
TZNAME:AEST
DTSTART:20240406T160000
END:STANDARD
BEGIN:DAYLIGHT
TZOFFSETFROM:+1000
TZOFFSETTO:+1100
TZNAME:AEDT
DTSTART:20241005T160000
END:DAYLIGHT
END:VTIMEZONE
BEGIN:VEVENT
DTSTART;TZID=Australia/Melbourne:20240714T080000
DTEND;TZID=Australia/Melbourne:20240714T170000
DTSTAMP:20260420T052051
CREATED:20240618T132758Z
LAST-MODIFIED:20240630T090655Z
UID:19775-1720944000-1720976400@www.chevcarclubvic.org.au
SUMMARY:B24 Liberator restoration hangar Werribee
DESCRIPTION:Our destination is on the corner of Farm Road and Princes Hwy Werribee.  Where we will meet up with members of the SurfCoast Corvette Club\nThis Is the sight where in a World War II hangar on the old Werribee airfield – a  group of volunteers is restoring a World War 2 B24 Liberator. \nThis is the only remaining Liberator in the Southern Hemisphere and is one of only eight still existent in the world. \nentry fee for this one is $10 \nWe will meet at clubrooms @ 8:30 for 9am departure\, the first leg of the journey should take about 45 mins \nOur 2nd meeting point is McDonalds 1-9 Lunn Court Laverton (take the Point Cook Road exit) @ 9:30 for 9:45 departure. \nContact Keith on 0421 287 350 if you are coming. \nLunch venue  \nThe Views Bar and Grill\, 350 K Road Werribee South (located in the Werribee Park Golf Club) \n
URL:https://www.chevcarclubvic.org.au/event/b24/
CATEGORIES:Club Event
END:VEVENT
END:VCALENDAR