BEGIN:VCALENDAR
VERSION:2.0
PRODID:-//Chevrolet Car Club of Victoria - ECPv4.9.10//NONSGML v1.0//EN
CALSCALE:GREGORIAN
METHOD:PUBLISH
X-WR-CALNAME:Chevrolet Car Club of Victoria
X-ORIGINAL-URL:https://www.chevcarclubvic.org.au
X-WR-CALDESC:Events for Chevrolet Car Club of Victoria
BEGIN:VTIMEZONE
TZID:Australia/Melbourne
BEGIN:STANDARD
TZOFFSETFROM:+1100
TZOFFSETTO:+1000
TZNAME:AEST
DTSTART:20240406T160000
END:STANDARD
BEGIN:DAYLIGHT
TZOFFSETFROM:+1000
TZOFFSETTO:+1100
TZNAME:AEDT
DTSTART:20241005T160000
END:DAYLIGHT
END:VTIMEZONE
BEGIN:VEVENT
DTSTART;TZID=Australia/Melbourne:20241006T070000
DTEND;TZID=Australia/Melbourne:20241006T170000
DTSTAMP:20260420T224127
CREATED:20240222T055218Z
LAST-MODIFIED:20240222T060829Z
UID:19522-1728198000-1728234000@www.chevcarclubvic.org.au
SUMMARY:Bob Hayles Memorial run to Euroa
DESCRIPTION:Bob Hayles passed away on 31/12/2023\, he was a long serving committee member who contributed to the committee over many years\, he helped towards the running of the club and also\, contributed immensely to the success of club outings. Whilst the club does not make a practice of allocating “memorial’ events the committee felt this was appropriate not only due to Bob’s contribution to the club but also because the annual run to the Euroa Car Show was started by Bob. \nThe Australian National Show and Shine\, also known as the Euroa Show and Shine\, Located in  the Seven Creeks Park in Euroa Victoria\, this is much more than ‘just another car and bike show.’ \nThis is a family-friendly event featuring live music throughout the venue\, food stalls\, craft market and children’s entertainment\, all at an exceptionally affordable price\, with kids under 16 free. \nAs per usual we will be meeting in Lilydale in the Repco parking lot. We will meet at 7:00 am and leave in convoy at 7:30 am for a very scenic drive thru Yea and the surrounding countryside. \nKeith 0421287350  \n
URL:https://www.chevcarclubvic.org.au/event/bob-hayles-memorial-run-to-euroa/
CATEGORIES:Club Event
END:VEVENT
END:VCALENDAR