BEGIN:VCALENDAR
VERSION:2.0
PRODID:-//Chevrolet Car Club of Victoria - ECPv4.9.10//NONSGML v1.0//EN
CALSCALE:GREGORIAN
METHOD:PUBLISH
X-WR-CALNAME:Chevrolet Car Club of Victoria
X-ORIGINAL-URL:https://www.chevcarclubvic.org.au
X-WR-CALDESC:Events for Chevrolet Car Club of Victoria
BEGIN:VTIMEZONE
TZID:Australia/Melbourne
BEGIN:STANDARD
TZOFFSETFROM:+1100
TZOFFSETTO:+1000
TZNAME:AEST
DTSTART:20250405T160000
END:STANDARD
BEGIN:DAYLIGHT
TZOFFSETFROM:+1000
TZOFFSETTO:+1100
TZNAME:AEDT
DTSTART:20251004T160000
END:DAYLIGHT
END:VTIMEZONE
BEGIN:VEVENT
DTSTART;TZID=Australia/Melbourne:20250608T080000
DTEND;TZID=Australia/Melbourne:20250608T170000
DTSTAMP:20260420T164331
CREATED:20250222T080922Z
LAST-MODIFIED:20250222T080922Z
UID:20259-1749369600-1749402000@www.chevcarclubvic.org.au
SUMMARY:Breakfast - Darnum
DESCRIPTION:Breakfast 9:00am at The Stump Tea Rooms (1 Cropley St.\, Darnum). \nRing Michael Klein 0434 175 142 to book a spot. \n
URL:https://www.chevcarclubvic.org.au/event/breakfast-darnum-5/
CATEGORIES:Club Event,Gippsland Latrobe Valley
END:VEVENT
END:VCALENDAR