BEGIN:VCALENDAR
VERSION:2.0
PRODID:-//Chevrolet Car Club of Victoria - ECPv4.9.10//NONSGML v1.0//EN
CALSCALE:GREGORIAN
METHOD:PUBLISH
X-WR-CALNAME:Chevrolet Car Club of Victoria
X-ORIGINAL-URL:https://www.chevcarclubvic.org.au
X-WR-CALDESC:Events for Chevrolet Car Club of Victoria
BEGIN:VTIMEZONE
TZID:Australia/Melbourne
BEGIN:STANDARD
TZOFFSETFROM:+1100
TZOFFSETTO:+1000
TZNAME:AEST
DTSTART:20230401T160000
END:STANDARD
BEGIN:DAYLIGHT
TZOFFSETFROM:+1000
TZOFFSETTO:+1100
TZNAME:AEDT
DTSTART:20230930T160000
END:DAYLIGHT
END:VTIMEZONE
BEGIN:VEVENT
DTSTART;TZID=Australia/Melbourne:20230813T123000
DTEND;TZID=Australia/Melbourne:20230813T143000
DTSTAMP:20260421T075409
CREATED:20230527T083512Z
LAST-MODIFIED:20230730T051124Z
UID:18927-1691929800-1691937000@www.chevcarclubvic.org.au
SUMMARY:Lunch Trafalgar - Holden Museum
DESCRIPTION:BBQ Lunch 12:30pm at the Holden Museum (74 Waterloo Road\, Trafalgar)\,. \nTo book\, Ring Neil Titford on 0439 047 383 \n
URL:https://www.chevcarclubvic.org.au/event/breakfast-moe-2/
CATEGORIES:Club Event,Gippsland Latrobe Valley
END:VEVENT
END:VCALENDAR