BEGIN:VCALENDAR
VERSION:2.0
PRODID:-//Chevrolet Car Club of Victoria - ECPv4.9.10//NONSGML v1.0//EN
CALSCALE:GREGORIAN
METHOD:PUBLISH
X-WR-CALNAME:Chevrolet Car Club of Victoria
X-ORIGINAL-URL:https://www.chevcarclubvic.org.au
X-WR-CALDESC:Events for Chevrolet Car Club of Victoria
BEGIN:VTIMEZONE
TZID:Australia/Melbourne
BEGIN:STANDARD
TZOFFSETFROM:+1100
TZOFFSETTO:+1000
TZNAME:AEST
DTSTART:20240406T160000
END:STANDARD
BEGIN:DAYLIGHT
TZOFFSETFROM:+1000
TZOFFSETTO:+1100
TZNAME:AEDT
DTSTART:20241005T160000
END:DAYLIGHT
END:VTIMEZONE
BEGIN:VEVENT
DTSTART;TZID=Australia/Melbourne:20240317T083000
DTEND;TZID=Australia/Melbourne:20240317T150000
DTSTAMP:20260421T060855
CREATED:20231025T085138Z
LAST-MODIFIED:20240204T054835Z
UID:19212-1710664200-1710687600@www.chevcarclubvic.org.au
SUMMARY:Show & Shine / Swap Meet - Leongatha
DESCRIPTION:The Gippsland group will be setting up the club marquee & banner to promote the local chapter of the Chevrolet Car Club of Vic. \nEither join the convoy (leaving Warragul Railway Station Carpark 8:30am) or drive there directly & visit us at the tent on the day ! \nFor further details\, ring Neil Titford on 0439 047 383 \n
URL:https://www.chevcarclubvic.org.au/event/breakfast-moe-3/
CATEGORIES:Club Event,Gippsland Latrobe Valley
END:VEVENT
END:VCALENDAR