BEGIN:VCALENDAR
VERSION:2.0
PRODID:-//Chevrolet Car Club of Victoria - ECPv4.9.10//NONSGML v1.0//EN
CALSCALE:GREGORIAN
METHOD:PUBLISH
X-WR-CALNAME:Chevrolet Car Club of Victoria
X-ORIGINAL-URL:https://www.chevcarclubvic.org.au
X-WR-CALDESC:Events for Chevrolet Car Club of Victoria
BEGIN:VTIMEZONE
TZID:Australia/Melbourne
BEGIN:STANDARD
TZOFFSETFROM:+1100
TZOFFSETTO:+1000
TZNAME:AEST
DTSTART:20230401T160000
END:STANDARD
BEGIN:DAYLIGHT
TZOFFSETFROM:+1000
TZOFFSETTO:+1100
TZNAME:AEDT
DTSTART:20230930T160000
END:DAYLIGHT
END:VTIMEZONE
BEGIN:VEVENT
DTSTART;TZID=Australia/Melbourne:20231008T090000
DTEND;TZID=Australia/Melbourne:20231008T113000
DTSTAMP:20260421T092842
CREATED:20230702T122446Z
LAST-MODIFIED:20230702T122446Z
UID:18978-1696755600-1696764600@www.chevcarclubvic.org.au
SUMMARY:Breakfast Warragul
DESCRIPTION:Breakfast 9:00am at Street Side Café (1-2 Williams Square\, Warragul). \nTo book\, Ring Neil Titford on 0439 047 383 \n
URL:https://www.chevcarclubvic.org.au/event/breakfast-warragul-2/
CATEGORIES:Club Event,Gippsland Latrobe Valley
END:VEVENT
END:VCALENDAR