BEGIN:VCALENDAR
VERSION:2.0
PRODID:-//Chevrolet Car Club of Victoria - ECPv4.9.10//NONSGML v1.0//EN
CALSCALE:GREGORIAN
METHOD:PUBLISH
X-WR-CALNAME:Chevrolet Car Club of Victoria
X-ORIGINAL-URL:https://www.chevcarclubvic.org.au
X-WR-CALDESC:Events for Chevrolet Car Club of Victoria
BEGIN:VTIMEZONE
TZID:Australia/Melbourne
BEGIN:STANDARD
TZOFFSETFROM:+1100
TZOFFSETTO:+1000
TZNAME:AEST
DTSTART:20220402T160000
END:STANDARD
BEGIN:DAYLIGHT
TZOFFSETFROM:+1000
TZOFFSETTO:+1100
TZNAME:AEDT
DTSTART:20221001T160000
END:DAYLIGHT
END:VTIMEZONE
BEGIN:VEVENT
DTSTART;TZID=Australia/Melbourne:20221009T090000
DTEND;TZID=Australia/Melbourne:20221009T110000
DTSTAMP:20260419T174703
CREATED:20220605T081949Z
LAST-MODIFIED:20220605T081949Z
UID:17990-1665306000-1665313200@www.chevcarclubvic.org.au
SUMMARY:Breakfast Yarragon
DESCRIPTION:Breakfast at Yarragon. \n9:00am Fozigobble Cafe\, 79 Princess Hwy\, Yarragon. \nRing Neil Titford 0439 047 383 to book your spot. \n
URL:https://www.chevcarclubvic.org.au/event/breakfast-yarragon-2/
CATEGORIES:Club Event,Gippsland Latrobe Valley
END:VEVENT
END:VCALENDAR