BEGIN:VCALENDAR
VERSION:2.0
PRODID:-//Chevrolet Car Club of Victoria - ECPv4.9.10//NONSGML v1.0//EN
CALSCALE:GREGORIAN
METHOD:PUBLISH
X-WR-CALNAME:Chevrolet Car Club of Victoria
X-ORIGINAL-URL:https://www.chevcarclubvic.org.au
X-WR-CALDESC:Events for Chevrolet Car Club of Victoria
BEGIN:VTIMEZONE
TZID:Europe/Paris
BEGIN:DAYLIGHT
TZOFFSETFROM:+0100
TZOFFSETTO:+0200
TZNAME:CEST
DTSTART:20190331T010000
END:DAYLIGHT
BEGIN:STANDARD
TZOFFSETFROM:+0200
TZOFFSETTO:+0100
TZNAME:CET
DTSTART:20191027T010000
END:STANDARD
END:VTIMEZONE
BEGIN:VEVENT
DTSTART;TZID=Europe/Paris:20191217T183000
DTEND;TZID=Europe/Paris:20191217T220000
DTSTAMP:20260419T140115
CREATED:20150802T230045Z
LAST-MODIFIED:20191130T123318Z
UID:13337-1576607400-1576620000@www.chevcarclubvic.org.au
SUMMARY:Camaro / Firebird / Trans Am Group Monthly Meeting
DESCRIPTION:\nThis is our Christmas meeting and as per tradition we will meet up at the Moorabbin clubrooms for a 6.30pm departure to the Chelsea Heights Hotel for dinner and drinks.  \nMeeting starts at 8.00pm. Topics: Events\, past and future. Hints & Tips. Show Cars. Raffle and more! \n
URL:https://www.chevcarclubvic.org.au/event/camaro-firebird-trans-am-group-monthly-meeting-2019-12-17/
LOCATION:Chelsea Heights Hotel\, Springvale Rd & Wells Rd\, Aspendale Gardens\, Victoria\, 3196\, Australia
CATEGORIES:Camaro Firebird Group,Club Event,Club Meeting
END:VEVENT
END:VCALENDAR