BEGIN:VCALENDAR
VERSION:2.0
PRODID:-//Chevrolet Car Club of Victoria - ECPv4.9.10//NONSGML v1.0//EN
CALSCALE:GREGORIAN
METHOD:PUBLISH
X-WR-CALNAME:Chevrolet Car Club of Victoria
X-ORIGINAL-URL:https://www.chevcarclubvic.org.au
X-WR-CALDESC:Events for Chevrolet Car Club of Victoria
BEGIN:VTIMEZONE
TZID:Australia/Melbourne
BEGIN:STANDARD
TZOFFSETFROM:+1100
TZOFFSETTO:+1000
TZNAME:AEST
DTSTART:20220402T160000
END:STANDARD
BEGIN:DAYLIGHT
TZOFFSETFROM:+1000
TZOFFSETTO:+1100
TZNAME:AEDT
DTSTART:20221001T160000
END:DAYLIGHT
END:VTIMEZONE
BEGIN:VEVENT
DTSTART;TZID=Australia/Melbourne:20221204T110000
DTEND;TZID=Australia/Melbourne:20221204T160000
DTSTAMP:20260419T162118
CREATED:20220731T030526Z
LAST-MODIFIED:20220731T031253Z
UID:18152-1670151600-1670169600@www.chevcarclubvic.org.au
SUMMARY:Chevrolet Car Club Christmas BBQ
DESCRIPTION:Sunday Dec 2nd at the Club Rooms\, 11am till 4pm. Fully catered event\, spit roast lunch\, soft drinks   free for all members. Alcoholic drinks at bar prices. \n
URL:https://www.chevcarclubvic.org.au/event/chevroilet-car-club-christmas-bbq/
CATEGORIES:Club Event
END:VEVENT
END:VCALENDAR