BEGIN:VCALENDAR
VERSION:2.0
PRODID:-//Chevrolet Car Club of Victoria - ECPv4.9.10//NONSGML v1.0//EN
CALSCALE:GREGORIAN
METHOD:PUBLISH
X-WR-CALNAME:Chevrolet Car Club of Victoria
X-ORIGINAL-URL:https://www.chevcarclubvic.org.au
X-WR-CALDESC:Events for Chevrolet Car Club of Victoria
BEGIN:VTIMEZONE
TZID:Australia/Melbourne
BEGIN:STANDARD
TZOFFSETFROM:+1100
TZOFFSETTO:+1000
TZNAME:AEST
DTSTART:20250405T160000
END:STANDARD
BEGIN:DAYLIGHT
TZOFFSETFROM:+1000
TZOFFSETTO:+1100
TZNAME:AEDT
DTSTART:20251004T160000
END:DAYLIGHT
END:VTIMEZONE
BEGIN:VEVENT
DTSTART;TZID=Australia/Melbourne:20251029T190000
DTEND;TZID=Australia/Melbourne:20251029T213000
DTSTAMP:20260419T225826
CREATED:20230102T071353Z
LAST-MODIFIED:20230102T071353Z
UID:19739-1761764400-1761773400@www.chevcarclubvic.org.au
SUMMARY:Chevrolet Car Club Committee Meeting
DESCRIPTION:
URL:https://www.chevcarclubvic.org.au/event/chevrolet-car-club-committee-meeting-2/2025-10-29/
LOCATION:Club Headquarters\, 3 Edgecombe Court\, Moorabbin\, Victoria\, 3189\, Australia
CATEGORIES:Club Meeting
GEO:-37.942089;145.071267
X-APPLE-STRUCTURED-LOCATION;VALUE=URI;X-ADDRESS=Club Headquarters 3 Edgecombe Court Moorabbin Victoria 3189 Australia;X-APPLE-RADIUS=500;X-TITLE=3 Edgecombe Court:geo:145.071267,-37.942089
END:VEVENT
END:VCALENDAR