BEGIN:VCALENDAR
VERSION:2.0
PRODID:-//Chevrolet Car Club of Victoria - ECPv4.9.10//NONSGML v1.0//EN
CALSCALE:GREGORIAN
METHOD:PUBLISH
X-WR-CALNAME:Chevrolet Car Club of Victoria
X-ORIGINAL-URL:https://www.chevcarclubvic.org.au
X-WR-CALDESC:Events for Chevrolet Car Club of Victoria
BEGIN:VTIMEZONE
TZID:Australia/Melbourne
BEGIN:STANDARD
TZOFFSETFROM:+1100
TZOFFSETTO:+1000
TZNAME:AEST
DTSTART:20250405T160000
END:STANDARD
BEGIN:DAYLIGHT
TZOFFSETFROM:+1000
TZOFFSETTO:+1100
TZNAME:AEDT
DTSTART:20251004T160000
END:DAYLIGHT
END:VTIMEZONE
BEGIN:VEVENT
DTSTART;TZID=Australia/Melbourne:20250706T100000
DTEND;TZID=Australia/Melbourne:20250706T170000
DTSTAMP:20260420T134056
CREATED:20250211T025129Z
LAST-MODIFIED:20250702T062018Z
UID:20232-1751796000-1751821200@www.chevcarclubvic.org.au
SUMMARY:Christmas in July
DESCRIPTION:CHRISTMAS IN JULY… Celebrated on the 6th . \nXmas lunch at the COUNTRY CLUB\nHOTEL 18 HIGH St YEA (5797 2515) \n  \nMeeting point Repco Lilydale \n11am – The STYLELINE RUN departing at 11:15 via the MELBA HIGHWAY  \nThe Country Club Hotel is booked for 12.15 / 12.30 pm arrival so\,\nafter arrival there is time to stretch the legs and check out the\nlocal shops before you head to the pub. \nAs usual we require numbers to keep everyone happy so\, please\nemail me your intention to join us.\nIancole1946@outlook.com 0419 534 765\nIan for the social committee. \n
URL:https://www.chevcarclubvic.org.au/event/christmas-in-july-3/
CATEGORIES:Club Event
END:VEVENT
END:VCALENDAR