BEGIN:VCALENDAR
VERSION:2.0
PRODID:-//Chevrolet Car Club of Victoria - ECPv4.9.10//NONSGML v1.0//EN
CALSCALE:GREGORIAN
METHOD:PUBLISH
X-WR-CALNAME:Chevrolet Car Club of Victoria
X-ORIGINAL-URL:https://www.chevcarclubvic.org.au
X-WR-CALDESC:Events for Chevrolet Car Club of Victoria
BEGIN:VTIMEZONE
TZID:Australia/Melbourne
BEGIN:STANDARD
TZOFFSETFROM:+1100
TZOFFSETTO:+1000
TZNAME:AEST
DTSTART:20260404T160000
END:STANDARD
BEGIN:DAYLIGHT
TZOFFSETFROM:+1000
TZOFFSETTO:+1100
TZNAME:AEDT
DTSTART:20261003T160000
END:DAYLIGHT
END:VTIMEZONE
BEGIN:VEVENT
DTSTART;TZID=Australia/Melbourne:20261206T123000
DTEND;TZID=Australia/Melbourne:20261206T153000
DTSTAMP:20260419T175017
CREATED:20260329T074620Z
LAST-MODIFIED:20260329T074620Z
UID:20886-1796560200-1796571000@www.chevcarclubvic.org.au
SUMMARY:Christmas Lunch - Neerim South
DESCRIPTION:Christmas Lunch\, hosted by the Gippsland Group at the Neerim South Hotel (however\, all CCCVi members & families are more than welcome). \nRing Leigh Smith 0438 658 408 to book a spot. \n  \n
URL:https://www.chevcarclubvic.org.au/event/christmas-lunch-neerim-south-2/
CATEGORIES:Club Event,Gippsland Latrobe Valley
END:VEVENT
END:VCALENDAR