BEGIN:VCALENDAR
VERSION:2.0
PRODID:-//Chevrolet Car Club of Victoria - ECPv4.9.10//NONSGML v1.0//EN
CALSCALE:GREGORIAN
METHOD:PUBLISH
X-WR-CALNAME:Chevrolet Car Club of Victoria
X-ORIGINAL-URL:https://www.chevcarclubvic.org.au
X-WR-CALDESC:Events for Chevrolet Car Club of Victoria
BEGIN:VTIMEZONE
TZID:Australia/Melbourne
BEGIN:STANDARD
TZOFFSETFROM:+1100
TZOFFSETTO:+1000
TZNAME:AEST
DTSTART:20170401T160000
END:STANDARD
BEGIN:DAYLIGHT
TZOFFSETFROM:+1000
TZOFFSETTO:+1100
TZNAME:AEDT
DTSTART:20170930T160000
END:DAYLIGHT
END:VTIMEZONE
BEGIN:VEVENT
DTSTART;TZID=Australia/Melbourne:20170423T083000
DTEND;TZID=Australia/Melbourne:20170423T140000
DTSTAMP:20260419T145058
CREATED:20170220T195030Z
LAST-MODIFIED:20170221T041320Z
UID:9572-1492936200-1492956000@www.chevcarclubvic.org.au
SUMMARY:Club Rally 2017
DESCRIPTION:If you like cruising with a competitive touch to it\, put Sunday April 23rd in your calendar now and block the date.\nWe are running a car rally that will wind though some beautiful Yarra Valley countryside. Total distance will be around 100kms and all roads are sealed.\nParticipants will assemble at BP Eastlink (inbound) at 8:30 am for driver’s and navigator’s briefing and instructions. Cars will be flagged off from 9:00am at 30 second intervals.\nThere will be a morning tea stop at Yarra Glen and the event will end with lunch at the Eltham Hotel.\nThis is a competitive event but it is not a race. Entrants will answer questions along the route and be judged for accuracy.\nPrizes will be awarded for rally results\, car and crew presentation.\nIt is strongly recommended that there are at least two people per car – driver and navigator. It will be difficult to participate as driver only.  Make it a family and friends day and bring the kids too!\nThere is no entry fee however morning tea and lunch will be at members own cost.\nDetails of the event will also be posted on the Club website and Facebook page.\nWe will need an indication of numbers to book lunch so please register your interest with:\nGordon Evans – gordovans1@bigpond.com\nRob Wilson –  robert.j.wilson@primesquare.com.au\nPlease join in and make this a happy event and a great cruise. \n
URL:https://www.chevcarclubvic.org.au/event/club-rally-2017/
LOCATION:BP Eastlink (Inbound)\, 1501 Eastlink Northbound\, Scoresby\, Vic\, 3179\, Australia
CATEGORIES:Chevrolet Car Club,Club Event,Club Meeting
GEO:-37.9130811;145.2172343
X-APPLE-STRUCTURED-LOCATION;VALUE=URI;X-ADDRESS=BP Eastlink (Inbound) 1501 Eastlink Northbound Scoresby Vic 3179 Australia;X-APPLE-RADIUS=500;X-TITLE=1501 Eastlink Northbound:geo:145.2172343,-37.9130811
END:VEVENT
END:VCALENDAR