BEGIN:VCALENDAR
VERSION:2.0
PRODID:-//Chevrolet Car Club of Victoria - ECPv4.9.10//NONSGML v1.0//EN
CALSCALE:GREGORIAN
METHOD:PUBLISH
X-WR-CALNAME:Chevrolet Car Club of Victoria
X-ORIGINAL-URL:https://www.chevcarclubvic.org.au
X-WR-CALDESC:Events for Chevrolet Car Club of Victoria
BEGIN:VTIMEZONE
TZID:Australia/Melbourne
BEGIN:STANDARD
TZOFFSETFROM:+1100
TZOFFSETTO:+1000
TZNAME:AEST
DTSTART:20240406T160000
END:STANDARD
BEGIN:DAYLIGHT
TZOFFSETFROM:+1000
TZOFFSETTO:+1100
TZNAME:AEDT
DTSTART:20241005T160000
END:DAYLIGHT
END:VTIMEZONE
BEGIN:VEVENT
DTSTART;TZID=Australia/Melbourne:20240421T090000
DTEND;TZID=Australia/Melbourne:20240421T170000
DTSTAMP:20260421T004413
CREATED:20240222T042322Z
LAST-MODIFIED:20240222T044157Z
UID:19518-1713690000-1713718800@www.chevcarclubvic.org.au
SUMMARY:Club Run to Castlemaine
DESCRIPTION:Where are we going?   \nCastlemaine\,  where we will be visiting the Hadfield’s Hot Rods \nFollowed by lunch at 1pm at Red Hill Hotel 163 Main Road\, Chewton \nWhy?  Lunch/nice drive\nWhen?  on Sunday 21st April\n \nDeparture details:  Meeting at 7 Eleven outbound (next to McDonalds) \, Western Ring Road just before the Western Hwy turn off at 9:00am for a 9:30am departure to arrive at Castlemaine  at 11am.\n \nRoute: Travelling Calder Hwy to Castlemaine to Hadfield’s Hot Rods\, 624 Pyrenees Highway\, Chewton\,  followed by 1pm Lunch Red Hill Hotel 163 Main Road\, Chewton \nDestination: Red Hill Hotel 163 Main Road\, Chewton \nBooking: Message Ross Petousis on 0401 193 749 with the names attending lunch to ensure a seat at the table. \n
URL:https://www.chevcarclubvic.org.au/event/club-run-to-castlemaine/
CATEGORIES:Club Event
END:VEVENT
END:VCALENDAR