BEGIN:VCALENDAR
VERSION:2.0
PRODID:-//Chevrolet Car Club of Victoria - ECPv4.9.10//NONSGML v1.0//EN
CALSCALE:GREGORIAN
METHOD:PUBLISH
X-WR-CALNAME:Chevrolet Car Club of Victoria
X-ORIGINAL-URL:https://www.chevcarclubvic.org.au
X-WR-CALDESC:Events for Chevrolet Car Club of Victoria
BEGIN:VTIMEZONE
TZID:Australia/Melbourne
BEGIN:STANDARD
TZOFFSETFROM:+1100
TZOFFSETTO:+1000
TZNAME:AEST
DTSTART:20230401T160000
END:STANDARD
BEGIN:DAYLIGHT
TZOFFSETFROM:+1000
TZOFFSETTO:+1100
TZNAME:AEDT
DTSTART:20230930T160000
END:DAYLIGHT
END:VTIMEZONE
BEGIN:VEVENT
DTSTART;TZID=Australia/Melbourne:20230902T140000
DTEND;TZID=Australia/Melbourne:20230902T170000
DTSTAMP:20260421T061254
CREATED:20230816T015625Z
LAST-MODIFIED:20230816T015711Z
UID:19046-1693663200-1693674000@www.chevcarclubvic.org.au
SUMMARY:Crossway Car Show
DESCRIPTION:
URL:https://www.chevcarclubvic.org.au/event/crossway-car-show/
ATTACH;FMTTYPE=image/jpeg:https://www.chevcarclubvic.org.au/wp-content/uploads/2023/08/Capture.jpg
END:VEVENT
END:VCALENDAR