BEGIN:VCALENDAR
VERSION:2.0
PRODID:-//Chevrolet Car Club of Victoria - ECPv4.9.10//NONSGML v1.0//EN
CALSCALE:GREGORIAN
METHOD:PUBLISH
X-WR-CALNAME:Chevrolet Car Club of Victoria
X-ORIGINAL-URL:https://www.chevcarclubvic.org.au
X-WR-CALDESC:Events for Chevrolet Car Club of Victoria
BEGIN:VTIMEZONE
TZID:Australia/Melbourne
BEGIN:STANDARD
TZOFFSETFROM:+1100
TZOFFSETTO:+1000
TZNAME:AEST
DTSTART:20190406T160000
END:STANDARD
BEGIN:DAYLIGHT
TZOFFSETFROM:+1000
TZOFFSETTO:+1100
TZNAME:AEDT
DTSTART:20191005T160000
END:DAYLIGHT
END:VTIMEZONE
BEGIN:VEVENT
DTSTART;TZID=Australia/Melbourne:20191006T080000
DTEND;TZID=Australia/Melbourne:20191006T153000
DTSTAMP:20260419T183902
CREATED:20190701T073036Z
LAST-MODIFIED:20190701T073036Z
UID:14173-1570348800-1570375800@www.chevcarclubvic.org.au
SUMMARY:Euroa National Show & Shine
DESCRIPTION:This years theme is the 1970’s\,  \nShow vehicles $10 including driver \nShow Bikes $5 including rider \nGeneral public $5 Kids Free \n  \nLive Music\, Food Stalls\, Craft Market & Children’s Entertainment \n8am to 3:30pm \n  \n
URL:https://www.chevcarclubvic.org.au/event/euroa-national-show-shine/
LOCATION:Euroa Victoria\, Euroa\, Victoria\, Australia
CATEGORIES:Shown & Shine
END:VEVENT
END:VCALENDAR