BEGIN:VCALENDAR
VERSION:2.0
PRODID:-//Chevrolet Car Club of Victoria - ECPv4.9.10//NONSGML v1.0//EN
CALSCALE:GREGORIAN
METHOD:PUBLISH
X-WR-CALNAME:Chevrolet Car Club of Victoria
X-ORIGINAL-URL:https://www.chevcarclubvic.org.au
X-WR-CALDESC:Events for Chevrolet Car Club of Victoria
BEGIN:VTIMEZONE
TZID:Australia/Melbourne
BEGIN:STANDARD
TZOFFSETFROM:+1100
TZOFFSETTO:+1000
TZNAME:AEST
DTSTART:20240406T160000
END:STANDARD
BEGIN:DAYLIGHT
TZOFFSETFROM:+1000
TZOFFSETTO:+1100
TZNAME:AEDT
DTSTART:20241005T160000
END:DAYLIGHT
END:VTIMEZONE
BEGIN:VEVENT
DTSTART;VALUE=DATE:20240121
DTEND;VALUE=DATE:20240122
DTSTAMP:20260421T110418
CREATED:20231016T022022Z
LAST-MODIFIED:20231016T022139Z
UID:19197-1705795200-1705881599@www.chevcarclubvic.org.au
SUMMARY:Festival of Motoring Cruden Farm
DESCRIPTION:
URL:https://www.chevcarclubvic.org.au/event/festival-of-motoring-cruden-farm-2/
ATTACH;FMTTYPE=image/jpeg:https://www.chevcarclubvic.org.au/wp-content/uploads/2023/10/cruden-farm.jpg
END:VEVENT
END:VCALENDAR