BEGIN:VCALENDAR
VERSION:2.0
PRODID:-//Chevrolet Car Club of Victoria - ECPv4.9.10//NONSGML v1.0//EN
CALSCALE:GREGORIAN
METHOD:PUBLISH
X-WR-CALNAME:Chevrolet Car Club of Victoria
X-ORIGINAL-URL:https://www.chevcarclubvic.org.au
X-WR-CALDESC:Events for Chevrolet Car Club of Victoria
BEGIN:VTIMEZONE
TZID:Australia/Melbourne
BEGIN:STANDARD
TZOFFSETFROM:+1100
TZOFFSETTO:+1000
TZNAME:AEST
DTSTART:20170401T160000
END:STANDARD
BEGIN:DAYLIGHT
TZOFFSETFROM:+1000
TZOFFSETTO:+1100
TZNAME:AEDT
DTSTART:20170930T160000
END:DAYLIGHT
END:VTIMEZONE
BEGIN:VEVENT
DTSTART;TZID=Australia/Melbourne:20170910T093000
DTEND;TZID=Australia/Melbourne:20170910T233000
DTSTAMP:20260419T132007
CREATED:20170904T102837Z
LAST-MODIFIED:20170908T115937Z
UID:13145-1505035800-1505086200@www.chevcarclubvic.org.au
SUMMARY:Gippsland Chapter: Breakfast
DESCRIPTION:Meet for breakfast at the Gippy Goat Cafe \n26 Gordon Rd\, Yarragon VIC 3823 \n9:30am Sunday 10 Sept \nDetails: Neil Titford \n
URL:https://www.chevcarclubvic.org.au/event/gippsland-chapter-breakfast/
CATEGORIES:Club Event,Gippsland Latrobe Valley
END:VEVENT
END:VCALENDAR