BEGIN:VCALENDAR
VERSION:2.0
PRODID:-//Chevrolet Car Club of Victoria - ECPv4.9.10//NONSGML v1.0//EN
CALSCALE:GREGORIAN
METHOD:PUBLISH
X-WR-CALNAME:Chevrolet Car Club of Victoria
X-ORIGINAL-URL:https://www.chevcarclubvic.org.au
X-WR-CALDESC:Events for Chevrolet Car Club of Victoria
BEGIN:VTIMEZONE
TZID:Australia/Melbourne
BEGIN:STANDARD
TZOFFSETFROM:+1100
TZOFFSETTO:+1000
TZNAME:AEST
DTSTART:20240406T160000
END:STANDARD
BEGIN:DAYLIGHT
TZOFFSETFROM:+1000
TZOFFSETTO:+1100
TZNAME:AEDT
DTSTART:20241005T160000
END:DAYLIGHT
END:VTIMEZONE
BEGIN:VEVENT
DTSTART;TZID=Australia/Melbourne:20241201T123000
DTEND;TZID=Australia/Melbourne:20241201T153000
DTSTAMP:20260420T103606
CREATED:20240602T085047Z
LAST-MODIFIED:20240602T085047Z
UID:19682-1733056200-1733067000@www.chevcarclubvic.org.au
SUMMARY:Gippsland Christmas Lunch
DESCRIPTION:This is a placeholder for the Gippsland Christmas Lunch (tbc) \nProposed to be held at Neerim South Hotel. \nFurther details as we get closer to the event. \nph Michael Klein 0434 175 142 for bookings. \n
URL:https://www.chevcarclubvic.org.au/event/gippsland-christmas-lunch/
CATEGORIES:Club Event,Gippsland Latrobe Valley
END:VEVENT
END:VCALENDAR