BEGIN:VCALENDAR
VERSION:2.0
PRODID:-//Chevrolet Car Club of Victoria - ECPv4.9.10//NONSGML v1.0//EN
CALSCALE:GREGORIAN
METHOD:PUBLISH
X-WR-CALNAME:Chevrolet Car Club of Victoria
X-ORIGINAL-URL:https://www.chevcarclubvic.org.au
X-WR-CALDESC:Events for Chevrolet Car Club of Victoria
BEGIN:VTIMEZONE
TZID:Australia/Melbourne
BEGIN:STANDARD
TZOFFSETFROM:+1100
TZOFFSETTO:+1000
TZNAME:AEST
DTSTART:20210403T160000
END:STANDARD
BEGIN:DAYLIGHT
TZOFFSETFROM:+1000
TZOFFSETTO:+1100
TZNAME:AEDT
DTSTART:20211002T160000
END:DAYLIGHT
END:VTIMEZONE
BEGIN:VEVENT
DTSTART;TZID=Australia/Melbourne:20210314T090000
DTEND;TZID=Australia/Melbourne:20210314T110000
DTSTAMP:20260419T165819
CREATED:20210306T083130Z
LAST-MODIFIED:20210306T103341Z
UID:17142-1615712400-1615719600@www.chevcarclubvic.org.au
SUMMARY:Gippsland Group Breakfast
DESCRIPTION:Breakfast at Thorpdale Bakery\, 34 Station St. Thorpdale\, followed by a visit to a local collector of chainsaws.\nRing Neil Titford 0439 047 383 for details. \n
URL:https://www.chevcarclubvic.org.au/event/gippsland-group-breakfast/
LOCATION:Thorpdale Bakery\, 34 Station St.\, Thorpdale
CATEGORIES:Club Event
END:VEVENT
END:VCALENDAR