BEGIN:VCALENDAR
VERSION:2.0
PRODID:-//Chevrolet Car Club of Victoria - ECPv4.9.10//NONSGML v1.0//EN
CALSCALE:GREGORIAN
METHOD:PUBLISH
X-WR-CALNAME:Chevrolet Car Club of Victoria
X-ORIGINAL-URL:https://www.chevcarclubvic.org.au
X-WR-CALDESC:Events for Chevrolet Car Club of Victoria
BEGIN:VTIMEZONE
TZID:Australia/Melbourne
BEGIN:STANDARD
TZOFFSETFROM:+1100
TZOFFSETTO:+1000
TZNAME:AEST
DTSTART:20220402T160000
END:STANDARD
BEGIN:DAYLIGHT
TZOFFSETFROM:+1000
TZOFFSETTO:+1100
TZNAME:AEDT
DTSTART:20221001T160000
END:DAYLIGHT
END:VTIMEZONE
BEGIN:VEVENT
DTSTART;TZID=Australia/Melbourne:20221120T080000
DTEND;TZID=Australia/Melbourne:20221120T170000
DTSTAMP:20260419T174848
CREATED:20220315T024858Z
LAST-MODIFIED:20220315T025103Z
UID:17830-1668931200-1668963600@www.chevcarclubvic.org.au
SUMMARY:Hobsons Bay Mens Shed Car Show
DESCRIPTION:
URL:https://www.chevcarclubvic.org.au/event/hobsons-bay-mens-shed/
ATTACH;FMTTYPE=application/pdf:https://www.chevcarclubvic.org.au/wp-content/uploads/2022/03/were-back-word.pdf
END:VEVENT
END:VCALENDAR