BEGIN:VCALENDAR
VERSION:2.0
PRODID:-//Chevrolet Car Club of Victoria - ECPv4.9.10//NONSGML v1.0//EN
CALSCALE:GREGORIAN
METHOD:PUBLISH
X-WR-CALNAME:Chevrolet Car Club of Victoria
X-ORIGINAL-URL:https://www.chevcarclubvic.org.au
X-WR-CALDESC:Events for Chevrolet Car Club of Victoria
BEGIN:VTIMEZONE
TZID:Australia/Melbourne
BEGIN:STANDARD
TZOFFSETFROM:+1100
TZOFFSETTO:+1000
TZNAME:AEST
DTSTART:20160402T160000
END:STANDARD
BEGIN:DAYLIGHT
TZOFFSETFROM:+1000
TZOFFSETTO:+1100
TZNAME:AEDT
DTSTART:20161001T160000
END:DAYLIGHT
END:VTIMEZONE
BEGIN:VEVENT
DTSTART;TZID=Australia/Melbourne:20160925T091500
DTEND;TZID=Australia/Melbourne:20160925T140000
DTSTAMP:20260421T101127
CREATED:20160913T010634Z
LAST-MODIFIED:20160913T010634Z
UID:9116-1474794900-1474812000@www.chevcarclubvic.org.au
SUMMARY:Join the Pontiac Club Spring Run to Guys Hill
DESCRIPTION:Our members have been invited to join the Pontiac Club to view a private collection of Historic cars and kitchen artefacts.  See below note from the Pontiac Club. \nSunday 25th September 2016  –  Spring Run to Guys Hill to view a fantastic Private Car Collection and Historic Kitchen Artifacts /Other items from years gone by. \nThis collection of 40+ cars includes the only Tucker in Australia ($4mill+)\, 1913 Willys \,1925 Packard \,several Cords \, Paul Newmans 1977 Lincoln and many other unique vehicles from 1930’s thru to 1970’s including a couple of Corvettes. \nAlso on display are Peter Brock vehicles including his first car – the Austin 7 paddock basher plus a number of his race cars and other Historic racers. \nFor the not so car minded there is a unique display of past household kitchen items and packaging. \n We know that this is relatively short notice but it was the only date available in the foreseeable future. It has taken over 5 months to just get this date due to the owners many commitments. \nThis collection is not open to the general public and presents us with an opportunity that may not be available again. A donation which is given to charity is all that is required. Coffee \, Tea & biscuits will be provided. \nMeet up at the Stamford Hotel car park (cnr Wellington & Stud rds Rowville) \n9.15 to leave at 9.30am \nThen there will be a short but very scenic drive to the Cardinia Hotel car park on the corner of Paynes rd.  and the Beaconsfield- Emerald rd at Beaconsfield (Mel.212 A7) where at approx. 10.00am we will meet others at who didn’t make the run. From there its a short drive to the property  (including about 200mtrs of good dirt road). \nAfterwards for those wanting to make a day of it there are several venues for lunch in the area. \nA group booking can be made at one of these depending on your early response. \nSo please confirm numbers A.S.A.P. if you \,your family or friends are attending . \nContact Jeff on 0408 362998 or Glenn 0404 076503 \n  \n
URL:https://www.chevcarclubvic.org.au/event/join-the-pontiac-club-spring-run-to-guys-hill/
LOCATION:Stamford Hotel\, Cnr Wellington & Stud Rds\, Rowville\, Victoria\, Australia
CATEGORIES:Invited Events
GEO:-37.9279254;145.2329411
X-APPLE-STRUCTURED-LOCATION;VALUE=URI;X-ADDRESS=Stamford Hotel Cnr Wellington & Stud Rds Rowville Victoria Australia;X-APPLE-RADIUS=500;X-TITLE=Cnr Wellington & Stud Rds:geo:145.2329411,-37.9279254
END:VEVENT
END:VCALENDAR