BEGIN:VCALENDAR
VERSION:2.0
PRODID:-//Chevrolet Car Club of Victoria - ECPv4.9.10//NONSGML v1.0//EN
CALSCALE:GREGORIAN
METHOD:PUBLISH
X-WR-CALNAME:Chevrolet Car Club of Victoria
X-ORIGINAL-URL:https://www.chevcarclubvic.org.au
X-WR-CALDESC:Events for Chevrolet Car Club of Victoria
BEGIN:VTIMEZONE
TZID:Australia/Melbourne
BEGIN:STANDARD
TZOFFSETFROM:+1100
TZOFFSETTO:+1000
TZNAME:AEST
DTSTART:20160402T160000
END:STANDARD
BEGIN:DAYLIGHT
TZOFFSETFROM:+1000
TZOFFSETTO:+1100
TZNAME:AEDT
DTSTART:20161001T160000
END:DAYLIGHT
END:VTIMEZONE
BEGIN:VEVENT
DTSTART;TZID=Australia/Melbourne:20161023T080000
DTEND;TZID=Australia/Melbourne:20161023T160000
DTSTAMP:20260421T085128
CREATED:20160816T092540Z
LAST-MODIFIED:20160816T092540Z
UID:5248-1477209600-1477238400@www.chevcarclubvic.org.au
SUMMARY:Last of the Chrome Bumpers
DESCRIPTION:
URL:https://www.chevcarclubvic.org.au/event/last-of-the-chrome-bumpers/
LOCATION:LARDNER PARK\, WARRAGUL\, Victoria\, Australia
GEO:-38.1537515;145.9297824
END:VEVENT
END:VCALENDAR