BEGIN:VCALENDAR
VERSION:2.0
PRODID:-//Chevrolet Car Club of Victoria - ECPv4.9.10//NONSGML v1.0//EN
CALSCALE:GREGORIAN
METHOD:PUBLISH
X-WR-CALNAME:Chevrolet Car Club of Victoria
X-ORIGINAL-URL:https://www.chevcarclubvic.org.au
X-WR-CALDESC:Events for Chevrolet Car Club of Victoria
BEGIN:VTIMEZONE
TZID:Australia/Melbourne
BEGIN:STANDARD
TZOFFSETFROM:+1100
TZOFFSETTO:+1000
TZNAME:AEST
DTSTART:20250405T160000
END:STANDARD
BEGIN:DAYLIGHT
TZOFFSETFROM:+1000
TZOFFSETTO:+1100
TZNAME:AEDT
DTSTART:20251004T160000
END:DAYLIGHT
END:VTIMEZONE
BEGIN:VEVENT
DTSTART;TZID=Australia/Melbourne:20251026T113000
DTEND;TZID=Australia/Melbourne:20251026T153000
DTSTAMP:20260419T180824
CREATED:20250810T090955Z
LAST-MODIFIED:20250810T090955Z
UID:20544-1761478200-1761492600@www.chevcarclubvic.org.au
SUMMARY:Lunch and Shed Visit - Tynong North
DESCRIPTION:Come along to inspect John Johnson’s new shed ! (bound to be a ripper\, as a visit to the shed at his previous property a few years back somewhat set THE BENCHMARK of all shed visits ! – I’m guessing this new shed of his is sure to impress !). \nBYO meat\, our hosts will kindly supply Salads and BBQ facilities. \nThose that wish to travel in convoy\, meet at the freeway rest-stop between the Drouin/Longwarry exits for an 11:00am departure\, else meet at John’s place 11:30am. \nRing Leigh Smith 0438 658 408 to book a spot. \n
URL:https://www.chevcarclubvic.org.au/event/lunch-and-shed-visit-tynong-north/
CATEGORIES:Club Event,Gippsland Latrobe Valley
END:VEVENT
END:VCALENDAR