BEGIN:VCALENDAR
VERSION:2.0
PRODID:-//Chevrolet Car Club of Victoria - ECPv4.9.10//NONSGML v1.0//EN
CALSCALE:GREGORIAN
METHOD:PUBLISH
X-WR-CALNAME:Chevrolet Car Club of Victoria
X-ORIGINAL-URL:https://www.chevcarclubvic.org.au
X-WR-CALDESC:Events for Chevrolet Car Club of Victoria
BEGIN:VTIMEZONE
TZID:Australia/Melbourne
BEGIN:STANDARD
TZOFFSETFROM:+1100
TZOFFSETTO:+1000
TZNAME:AEST
DTSTART:20220402T160000
END:STANDARD
BEGIN:DAYLIGHT
TZOFFSETFROM:+1000
TZOFFSETTO:+1100
TZNAME:AEDT
DTSTART:20221001T160000
END:DAYLIGHT
END:VTIMEZONE
BEGIN:VEVENT
DTSTART;TZID=Australia/Melbourne:20220424T120000
DTEND;TZID=Australia/Melbourne:20220424T153000
DTSTAMP:20260419T174734
CREATED:20220208T065719Z
LAST-MODIFIED:20220208T071016Z
UID:17765-1650801600-1650814200@www.chevcarclubvic.org.au
SUMMARY:Lunch Beaconsfield
DESCRIPTION:12:00 midday lunch at Cardinia Park Hotel\, 200 Beaconsfield-Emerald Road\, Beaconsfield. \nFollowed by a shed visit to John McMahon’s place for THE MOST IMPRESSIVE collection of stationary engines you will EVER see !! \nRing Neil Titford 0439 047 383 to book your spot. \n
URL:https://www.chevcarclubvic.org.au/event/lunch-beaconsfield/
CATEGORIES:Club Event,Gippsland Latrobe Valley
END:VEVENT
END:VCALENDAR