BEGIN:VCALENDAR
VERSION:2.0
PRODID:-//Chevrolet Car Club of Victoria - ECPv4.9.10//NONSGML v1.0//EN
CALSCALE:GREGORIAN
METHOD:PUBLISH
X-WR-CALNAME:Chevrolet Car Club of Victoria
X-ORIGINAL-URL:https://www.chevcarclubvic.org.au
X-WR-CALDESC:Events for Chevrolet Car Club of Victoria
BEGIN:VTIMEZONE
TZID:Australia/Melbourne
BEGIN:STANDARD
TZOFFSETFROM:+1100
TZOFFSETTO:+1000
TZNAME:AEST
DTSTART:20220402T160000
END:STANDARD
BEGIN:DAYLIGHT
TZOFFSETFROM:+1000
TZOFFSETTO:+1100
TZNAME:AEDT
DTSTART:20221001T160000
END:DAYLIGHT
END:VTIMEZONE
BEGIN:VEVENT
DTSTART;TZID=Australia/Melbourne:20220925T123000
DTEND;TZID=Australia/Melbourne:20220925T153000
DTSTAMP:20260419T180650
CREATED:20220605T081458Z
LAST-MODIFIED:20220605T081458Z
UID:17987-1664109000-1664119800@www.chevcarclubvic.org.au
SUMMARY:Lunch Neerim South
DESCRIPTION:Departing Warragul Railway Station carpark 11:30\, to arrive for lunch at the hotel\,\n91-109 Main Neerim Rd\, Neerim South \nRing Neil Titford 0439 047 383 to book your spot. \n
URL:https://www.chevcarclubvic.org.au/event/lunch-neerim-south/
CATEGORIES:Club Event,Gippsland Latrobe Valley
END:VEVENT
END:VCALENDAR