BEGIN:VCALENDAR
VERSION:2.0
PRODID:-//Chevrolet Car Club of Victoria - ECPv4.9.10//NONSGML v1.0//EN
CALSCALE:GREGORIAN
METHOD:PUBLISH
X-WR-CALNAME:Chevrolet Car Club of Victoria
X-ORIGINAL-URL:https://www.chevcarclubvic.org.au
X-WR-CALDESC:Events for Chevrolet Car Club of Victoria
BEGIN:VTIMEZONE
TZID:Australia/Melbourne
BEGIN:STANDARD
TZOFFSETFROM:+1100
TZOFFSETTO:+1000
TZNAME:AEST
DTSTART:20250405T160000
END:STANDARD
BEGIN:DAYLIGHT
TZOFFSETFROM:+1000
TZOFFSETTO:+1100
TZNAME:AEDT
DTSTART:20251004T160000
END:DAYLIGHT
END:VTIMEZONE
BEGIN:VEVENT
DTSTART;TZID=Australia/Melbourne:20250427T123000
DTEND;TZID=Australia/Melbourne:20250427T153000
DTSTAMP:20260420T182224
CREATED:20250222T080521Z
LAST-MODIFIED:20250222T080521Z
UID:20255-1745757000-1745767800@www.chevcarclubvic.org.au
SUMMARY:Lunch - Noojee
DESCRIPTION:Lunch 12:30 pm at The Outpost Retreat Restaurant (38 Loch Valley Rd\, Noojee). \nFor those wanting to go in convoy\, meet Warragul Railway Station carpark\, aiming to leave 11:30am. \nTo book a spot\, ring or txt Michael Klein 0434 175 142 \n
URL:https://www.chevcarclubvic.org.au/event/lunch-noojee-4/
CATEGORIES:Club Event,Gippsland Latrobe Valley
END:VEVENT
END:VCALENDAR