BEGIN:VCALENDAR
VERSION:2.0
PRODID:-//Chevrolet Car Club of Victoria - ECPv4.9.10//NONSGML v1.0//EN
CALSCALE:GREGORIAN
METHOD:PUBLISH
X-WR-CALNAME:Chevrolet Car Club of Victoria
X-ORIGINAL-URL:https://www.chevcarclubvic.org.au
X-WR-CALDESC:Events for Chevrolet Car Club of Victoria
BEGIN:VTIMEZONE
TZID:Australia/Melbourne
BEGIN:STANDARD
TZOFFSETFROM:+1100
TZOFFSETTO:+1000
TZNAME:AEST
DTSTART:20190406T160000
END:STANDARD
BEGIN:DAYLIGHT
TZOFFSETFROM:+1000
TZOFFSETTO:+1100
TZNAME:AEDT
DTSTART:20191005T160000
END:DAYLIGHT
END:VTIMEZONE
BEGIN:VEVENT
DTSTART;TZID=Australia/Melbourne:20190106T100000
DTEND;TZID=Australia/Melbourne:20190106T170000
DTSTAMP:20260419T144924
CREATED:20190101T121029Z
LAST-MODIFIED:20190101T121602Z
UID:13970-1546768800-1546794000@www.chevcarclubvic.org.au
SUMMARY:Lunch Run to Drouin
DESCRIPTION:Ron and Andy are organising a run for this Sunday 6th January. \nMeet at The Stamford hotel Rowville at 10.15am for 10.30 departure. Head out “the long way” to Drouin for lunch at Middels Resturant \nhttps://middels.com.au/\nDrive will take around 2hrs. \nLet Andy know sooner rather than later if you can make it so he can advise the Restaurant.  \n
URL:https://www.chevcarclubvic.org.au/event/lunch-run-to-drouin/
LOCATION:Stamford Hotel\, Cnr Wellington & Stud Rds\, Rowville\, Victoria\, Australia
END:VEVENT
END:VCALENDAR