BEGIN:VCALENDAR
VERSION:2.0
PRODID:-//Chevrolet Car Club of Victoria - ECPv4.9.10//NONSGML v1.0//EN
CALSCALE:GREGORIAN
METHOD:PUBLISH
X-WR-CALNAME:Chevrolet Car Club of Victoria
X-ORIGINAL-URL:https://www.chevcarclubvic.org.au
X-WR-CALDESC:Events for Chevrolet Car Club of Victoria
BEGIN:VTIMEZONE
TZID:Australia/Melbourne
BEGIN:STANDARD
TZOFFSETFROM:+1100
TZOFFSETTO:+1000
TZNAME:AEST
DTSTART:20260404T160000
END:STANDARD
BEGIN:DAYLIGHT
TZOFFSETFROM:+1000
TZOFFSETTO:+1100
TZNAME:AEDT
DTSTART:20261003T160000
END:DAYLIGHT
END:VTIMEZONE
BEGIN:VEVENT
DTSTART;TZID=Australia/Melbourne:20261115T090000
DTEND;TZID=Australia/Melbourne:20261115T110000
DTSTAMP:20260419T190713
CREATED:20260329T073815Z
LAST-MODIFIED:20260329T073815Z
UID:20884-1794733200-1794740400@www.chevcarclubvic.org.au
SUMMARY:Lunch Tooradin
DESCRIPTION:Lunch at the Sportsmans Club\, 62 Sth Gippsland Hwy\, Tooradin. \nRing Leigh Smith 0438 658 408 to book your spot. \n
URL:https://www.chevcarclubvic.org.au/event/lunch-tooradin/
CATEGORIES:Club Event,Gippsland Latrobe Valley
END:VEVENT
END:VCALENDAR