BEGIN:VCALENDAR
VERSION:2.0
PRODID:-//Chevrolet Car Club of Victoria - ECPv4.9.10//NONSGML v1.0//EN
CALSCALE:GREGORIAN
METHOD:PUBLISH
X-WR-CALNAME:Chevrolet Car Club of Victoria
X-ORIGINAL-URL:https://www.chevcarclubvic.org.au
X-WR-CALDESC:Events for Chevrolet Car Club of Victoria
BEGIN:VTIMEZONE
TZID:Australia/Melbourne
BEGIN:STANDARD
TZOFFSETFROM:+1100
TZOFFSETTO:+1000
TZNAME:AEST
DTSTART:20220402T160000
END:STANDARD
BEGIN:DAYLIGHT
TZOFFSETFROM:+1000
TZOFFSETTO:+1100
TZNAME:AEDT
DTSTART:20221001T160000
END:DAYLIGHT
END:VTIMEZONE
BEGIN:VEVENT
DTSTART;TZID=Australia/Melbourne:20220826T080000
DTEND;TZID=Australia/Melbourne:20220829T170000
DTSTAMP:20260419T145517
CREATED:20220702T042638Z
LAST-MODIFIED:20220702T044058Z
UID:18019-1661500800-1661792400@www.chevcarclubvic.org.au
SUMMARY:Meet the Vics
DESCRIPTION:See flyer for activities \n  \nAccommodation \nCOMFORT INN THE LAKES\n17Lake Terrace West\, Via Hay St\, Mount Gambier\, SA\, 5290. Phone: 08 8725 5755\nBelow are the room types\, along with their prices. We are booking from Friday 26th to\nMonday 29th August. If you wish your stay to be longer or shorter\, please let them\nknow when booking.\nRates are for 1 or 2 persons per night. Any rooms with more than 2 people will incur\na $10 per person per night charge.\nTo view photos of the rooms –\nhttps://www.choicehotels.com/en-au/south-australia/mt-gambier/comfort-innhotels/\nau953\n.\nThe various room prices are as follows –\nSmall Standard Room – 8 available – 1 queen bed only – $127.00 (Full price\nnormally $150.00)\nLarge Standard Room – 14 available (but only 6 that are not on the road front) – 1\nqueen bed and 1 single bed – $140.00 (Full price normally $165.00)\nDeluxe Room – 7 available (but only 4 that are not on the road front) – 1 King bed\nonly – $161.00 (Full price normally $190.00)\nExecutive Room – 8 available – 1 King bed only – $170.00 (Full price normally\n$200.00)\nYou will need to specify “Chevy Corvette Car Club” when booking\nNOTE: You can also reduce the room rates further (approximately $10/night) by\njoining “Choice Privileges”. It is free to join\, and you can apply when booking your\nroom\, automatically getting the extra discount. \n
URL:https://www.chevcarclubvic.org.au/event/meet-the-vics/
ATTACH;FMTTYPE=application/pdf:https://www.chevcarclubvic.org.au/wp-content/uploads/2022/07/Meet-the-Vics-2022-Flyer_02.pdf
END:VEVENT
END:VCALENDAR