BEGIN:VCALENDAR
VERSION:2.0
PRODID:-//Chevrolet Car Club of Victoria - ECPv4.9.10//NONSGML v1.0//EN
CALSCALE:GREGORIAN
METHOD:PUBLISH
X-WR-CALNAME:Chevrolet Car Club of Victoria
X-ORIGINAL-URL:https://www.chevcarclubvic.org.au
X-WR-CALDESC:Events for Chevrolet Car Club of Victoria
BEGIN:VTIMEZONE
TZID:Australia/Melbourne
BEGIN:STANDARD
TZOFFSETFROM:+1100
TZOFFSETTO:+1000
TZNAME:AEST
DTSTART:20200404T160000
END:STANDARD
BEGIN:DAYLIGHT
TZOFFSETFROM:+1000
TZOFFSETTO:+1100
TZNAME:AEDT
DTSTART:20201003T160000
END:DAYLIGHT
END:VTIMEZONE
BEGIN:VEVENT
DTSTART;TZID=Australia/Melbourne:20200301T080000
DTEND;TZID=Australia/Melbourne:20200301T170000
DTSTAMP:20260419T152149
CREATED:20200202T122206Z
LAST-MODIFIED:20200202T122206Z
UID:14850-1583049600-1583082000@www.chevcarclubvic.org.au
SUMMARY:Mountain District Rodders Picnic Day
DESCRIPTION: \n
URL:https://www.chevcarclubvic.org.au/event/mountain-district-rodders-picnic-day/
END:VEVENT
END:VCALENDAR