BEGIN:VCALENDAR
VERSION:2.0
PRODID:-//Chevrolet Car Club of Victoria - ECPv4.9.10//NONSGML v1.0//EN
CALSCALE:GREGORIAN
METHOD:PUBLISH
X-WR-CALNAME:Chevrolet Car Club of Victoria
X-ORIGINAL-URL:https://www.chevcarclubvic.org.au
X-WR-CALDESC:Events for Chevrolet Car Club of Victoria
BEGIN:VTIMEZONE
TZID:Australia/Melbourne
BEGIN:STANDARD
TZOFFSETFROM:+1100
TZOFFSETTO:+1000
TZNAME:AEST
DTSTART:20260404T160000
END:STANDARD
BEGIN:DAYLIGHT
TZOFFSETFROM:+1000
TZOFFSETTO:+1100
TZNAME:AEDT
DTSTART:20261003T160000
END:DAYLIGHT
END:VTIMEZONE
BEGIN:VEVENT
DTSTART;TZID=Australia/Melbourne:20260517T083000
DTEND;TZID=Australia/Melbourne:20260517T140000
DTSTAMP:20260419T145103
CREATED:20260407T090452Z
LAST-MODIFIED:20260407T091240Z
UID:20916-1779006600-1779026400@www.chevcarclubvic.org.au
SUMMARY:National Motoring Heritage Day - Manhattan
DESCRIPTION:National Motoring Heritage Day \nThis annual event showcases the movement Australia wide by encouraging the use of our heritage vehicles on a nominated date each year. The AOMC organises multiple events in Victorian metropolitan and country areas to celebrate our motoring heritage with the support of its member clubs and the RACV. \nSee attached flyer for details \n
URL:https://www.chevcarclubvic.org.au/event/national-motoring-heritage-day-manhattan/
LOCATION:Manhatten Hotel\, Ringwood\, Victoria\, Australia
ATTACH;FMTTYPE=image/jpeg:https://www.chevcarclubvic.org.au/wp-content/uploads/2026/04/Manhattan-NMHD.jpg
GEO:-37.8114;145.2306
END:VEVENT
END:VCALENDAR