BEGIN:VCALENDAR
VERSION:2.0
PRODID:-//Chevrolet Car Club of Victoria - ECPv4.9.10//NONSGML v1.0//EN
CALSCALE:GREGORIAN
METHOD:PUBLISH
X-WR-CALNAME:Chevrolet Car Club of Victoria
X-ORIGINAL-URL:https://www.chevcarclubvic.org.au
X-WR-CALDESC:Events for Chevrolet Car Club of Victoria
BEGIN:VTIMEZONE
TZID:Australia/Melbourne
BEGIN:STANDARD
TZOFFSETFROM:+1100
TZOFFSETTO:+1000
TZNAME:AEST
DTSTART:20200404T160000
END:STANDARD
BEGIN:DAYLIGHT
TZOFFSETFROM:+1000
TZOFFSETTO:+1100
TZNAME:AEDT
DTSTART:20201003T160000
END:DAYLIGHT
END:VTIMEZONE
BEGIN:VEVENT
DTSTART;VALUE=DATE:20200101
DTEND;VALUE=DATE:20200102
DTSTAMP:20260419T125634
CREATED:20191124T102642Z
LAST-MODIFIED:20191124T102642Z
UID:14637-1577836800-1577923199@www.chevcarclubvic.org.au
SUMMARY:New Years Day Car Show--Mornington
DESCRIPTION:This is considered one of the best car shows of the year. As per usual we will be meeting at the Bunnings in Frankston at 7:15 for a departure at 7:30 (sharp). We will travel in convoy to Mornington where we will park under the magnificent pine trees as a group. We have a cafe reserved on the main street of Mornington for our usual breakfast meal. After the meal we will walk back to the site and have a great day of checking out the many cars and catch up with old friends. You wont want to miss this as it is a real treat. Any questions contact Ron Baker 0421599229. \n
URL:https://www.chevcarclubvic.org.au/event/new-years-day-car-show-mornington/
LOCATION:Mornington Car Show
CATEGORIES:Club Event
END:VEVENT
END:VCALENDAR