BEGIN:VCALENDAR
VERSION:2.0
PRODID:-//Chevrolet Car Club of Victoria - ECPv4.9.10//NONSGML v1.0//EN
CALSCALE:GREGORIAN
METHOD:PUBLISH
X-WR-CALNAME:Chevrolet Car Club of Victoria
X-ORIGINAL-URL:https://www.chevcarclubvic.org.au
X-WR-CALDESC:Events for Chevrolet Car Club of Victoria
BEGIN:VTIMEZONE
TZID:Australia/Melbourne
BEGIN:STANDARD
TZOFFSETFROM:+1100
TZOFFSETTO:+1000
TZNAME:AEST
DTSTART:20210403T160000
END:STANDARD
BEGIN:DAYLIGHT
TZOFFSETFROM:+1000
TZOFFSETTO:+1100
TZNAME:AEDT
DTSTART:20211002T160000
END:DAYLIGHT
END:VTIMEZONE
BEGIN:VEVENT
DTSTART;TZID=Australia/Melbourne:20210101T100000
DTEND;TZID=Australia/Melbourne:20210101T150000
DTSTAMP:20260421T100959
CREATED:20201207T225357Z
LAST-MODIFIED:20201208T102651Z
UID:16688-1609495200-1609513200@www.chevcarclubvic.org.au
SUMMARY:New Years Day Run to Yea
DESCRIPTION:Our usual NYD run to Mornington will need to be changed this year due to problems resulting from the chrome bumper deal last year and also not knowing whether the car show will even proceed this year. We are having a run to Yea with the meeting point at Lilydale Super Cheap Auto/ Repco Carpark Maroondah Hwy. service road. We will meet at 10:00 for a departure at 10:30 am. We are travelling via the Black Spur . Be careful travelling thru Lilydale due to 3 speed cameras. We have booked the Royal Mail Pub for our noon meal in Yea. This promises to be a very good run and the scenery and food is top notch. I would like your intension to participate by either phoning me at: 0421599229 or by email: yankeecarman@gmail.com. Thanks and looking forward to a great day. Cheers\, Ron Baker \n
URL:https://www.chevcarclubvic.org.au/event/new-years-day-run-to-yea/
CATEGORIES:Club Event
END:VEVENT
END:VCALENDAR