BEGIN:VCALENDAR
VERSION:2.0
PRODID:-//Chevrolet Car Club of Victoria - ECPv4.9.10//NONSGML v1.0//EN
CALSCALE:GREGORIAN
METHOD:PUBLISH
X-WR-CALNAME:Chevrolet Car Club of Victoria
X-ORIGINAL-URL:https://www.chevcarclubvic.org.au
X-WR-CALDESC:Events for Chevrolet Car Club of Victoria
BEGIN:VTIMEZONE
TZID:Australia/Melbourne
BEGIN:STANDARD
TZOFFSETFROM:+1100
TZOFFSETTO:+1000
TZNAME:AEST
DTSTART:20190406T160000
END:STANDARD
BEGIN:DAYLIGHT
TZOFFSETFROM:+1000
TZOFFSETTO:+1100
TZNAME:AEDT
DTSTART:20191005T160000
END:DAYLIGHT
END:VTIMEZONE
BEGIN:VEVENT
DTSTART;VALUE=DATE:20191026
DTEND;VALUE=DATE:20191027
DTSTAMP:20260419T172523
CREATED:20190925T091436Z
LAST-MODIFIED:20190925T091436Z
UID:14397-1572048000-1572134399@www.chevcarclubvic.org.au
SUMMARY:Sandown Historic race meeting
DESCRIPTION:We have tickets for the historics again this year.\, same deal as last year $10 for car and driver $20 for a passernger. \nThis gives you access for the weekend. We will be attending on the Saturday 26th because GM day is on the Sunday. \nMeeting at the Sandown Hotel carpark on Princes Highway @ 7:30 departing at 7:45  \nContact Keith on 0421287350 to book a ticket \n
URL:https://www.chevcarclubvic.org.au/event/sandown-historic-race-meeting-2/
LOCATION:Sandown Race Course\, 591-659 Princess Hwy\, Springvale\, Victoria\, 3171\, Australia
CATEGORIES:Club Event
GEO:-37.950514;145.166434
X-APPLE-STRUCTURED-LOCATION;VALUE=URI;X-ADDRESS=Sandown Race Course 591-659 Princess Hwy Springvale Victoria 3171 Australia;X-APPLE-RADIUS=500;X-TITLE=591-659 Princess Hwy:geo:145.166434,-37.950514
END:VEVENT
END:VCALENDAR