BEGIN:VCALENDAR
VERSION:2.0
PRODID:-//Chevrolet Car Club of Victoria - ECPv4.9.10//NONSGML v1.0//EN
CALSCALE:GREGORIAN
METHOD:PUBLISH
X-WR-CALNAME:Chevrolet Car Club of Victoria
X-ORIGINAL-URL:https://www.chevcarclubvic.org.au
X-WR-CALDESC:Events for Chevrolet Car Club of Victoria
BEGIN:VTIMEZONE
TZID:Australia/Melbourne
BEGIN:STANDARD
TZOFFSETFROM:+1100
TZOFFSETTO:+1000
TZNAME:AEST
DTSTART:20220402T160000
END:STANDARD
BEGIN:DAYLIGHT
TZOFFSETFROM:+1000
TZOFFSETTO:+1100
TZNAME:AEDT
DTSTART:20221001T160000
END:DAYLIGHT
END:VTIMEZONE
BEGIN:VEVENT
DTSTART;TZID=Australia/Melbourne:20221106T073000
DTEND;TZID=Australia/Melbourne:20221106T170000
DTSTAMP:20260419T175017
CREATED:20221030T061902Z
LAST-MODIFIED:20221030T061902Z
UID:18285-1667719800-1667754000@www.chevcarclubvic.org.au
SUMMARY:Sandown Historic race meeting
DESCRIPTION: \n\n\nWe have tickets for the historics again this year\, discounted price is  $20 driver and $20 for each passenger this is for a weekend pass. \nWe are going as a club on the Sunday but if you wish to attend on Saturday or both days call me and we can work out how to get the tickets to you.  \nFor those going on Sunday we will meet at the Sandown Hotel carpark on Princes Highway @ 7:30 departing at 7:45  \nContact Keith on 0421287350 to book a ticket \n\n\n
URL:https://www.chevcarclubvic.org.au/event/sandown-historic-race-meeting-3/
CATEGORIES:Club Event
END:VEVENT
END:VCALENDAR