BEGIN:VCALENDAR
VERSION:2.0
PRODID:-//Chevrolet Car Club of Victoria - ECPv4.9.10//NONSGML v1.0//EN
CALSCALE:GREGORIAN
METHOD:PUBLISH
X-WR-CALNAME:Chevrolet Car Club of Victoria
X-ORIGINAL-URL:https://www.chevcarclubvic.org.au
X-WR-CALDESC:Events for Chevrolet Car Club of Victoria
BEGIN:VTIMEZONE
TZID:Australia/Melbourne
BEGIN:STANDARD
TZOFFSETFROM:+1100
TZOFFSETTO:+1000
TZNAME:AEST
DTSTART:20250405T160000
END:STANDARD
BEGIN:DAYLIGHT
TZOFFSETFROM:+1000
TZOFFSETTO:+1100
TZNAME:AEDT
DTSTART:20251004T160000
END:DAYLIGHT
END:VTIMEZONE
BEGIN:VEVENT
DTSTART;TZID=Australia/Melbourne:20251109T073000
DTEND;TZID=Australia/Melbourne:20251109T170000
DTSTAMP:20260419T223950
CREATED:20251008T103927Z
LAST-MODIFIED:20251008T104234Z
UID:20638-1762673400-1762707600@www.chevcarclubvic.org.au
SUMMARY:Sandown Historic Race Meeting
DESCRIPTION:Historic Sandown November 7th-9th  2025  \nWe have discounted passes to the  Sandown Historics again this year\,  \nTicketing. Weekend tickets for car and driver can be purchased on line at humanitix.com or at https://events.humanitix.com/historic-sandown-2025 using the password SANDOWN2025 for $30.00\, plus 4%\, including GST. Drivers will not be able to purchase a ticket at the gate. \nAll other car club members can purchase a one-day ticket for $30.00 at the vehicle entry gate when with the club car. Accompanying children under 17 are free. \n I will have the Grandstand Decal sticker for your windscreen to hand out at the meeting point on Sunday\, you will need to bring your receipt with you so it can be scanned at the gate.\, the gate attendant will then permit you to enter  No sticker and receipt\, no entry. \nWe are going as a club on the Sunday but if you wish to attend on Saturday or both days call me and we can work out how to get the windscreen stickers to you. \nFor those going on Sunday we will meet at the Sandown Hotel carpark on Princes Highway @ 7:30 departing at 7:45  \nContact Keith on 0421287350 to book a spot. \n
URL:https://www.chevcarclubvic.org.au/event/sandown-historic-race-meeting-4/
CATEGORIES:Club Event
END:VEVENT
END:VCALENDAR