BEGIN:VCALENDAR
VERSION:2.0
PRODID:-//Chevrolet Car Club of Victoria - ECPv4.9.10//NONSGML v1.0//EN
CALSCALE:GREGORIAN
METHOD:PUBLISH
X-WR-CALNAME:Chevrolet Car Club of Victoria
X-ORIGINAL-URL:https://www.chevcarclubvic.org.au
X-WR-CALDESC:Events for Chevrolet Car Club of Victoria
BEGIN:VTIMEZONE
TZID:Australia/Melbourne
BEGIN:STANDARD
TZOFFSETFROM:+1100
TZOFFSETTO:+1000
TZNAME:AEST
DTSTART:20220402T160000
END:STANDARD
BEGIN:DAYLIGHT
TZOFFSETFROM:+1000
TZOFFSETTO:+1100
TZNAME:AEDT
DTSTART:20221001T160000
END:DAYLIGHT
END:VTIMEZONE
BEGIN:VEVENT
DTSTART;TZID=Australia/Melbourne:20220514T080000
DTEND;TZID=Australia/Melbourne:20220514T120000
DTSTAMP:20260419T161656
CREATED:20220501T063357Z
LAST-MODIFIED:20220501T063357Z
UID:17923-1652515200-1652529600@www.chevcarclubvic.org.au
SUMMARY:Shannons Auto Caffeine
DESCRIPTION:Dust off your classic car or bike\, polish up your favourite machine and drop in for a coffee and snack at our Shannons Auctions & Clubhouse in Heatherton\, Saturday Morning 14th May from 8am\, and check out the latest Auction cars and bikes on offer. \nParking on-site for 40 cars plus street parking. \nCoffee and snacks on site. \nThe Shannons Insurance & Auction team will also be available to talk all things Motoring. \n
URL:https://www.chevcarclubvic.org.au/event/shannons-auto-caffeine/
END:VEVENT
END:VCALENDAR