BEGIN:VCALENDAR
VERSION:2.0
PRODID:-//Chevrolet Car Club of Victoria - ECPv4.9.10//NONSGML v1.0//EN
CALSCALE:GREGORIAN
METHOD:PUBLISH
X-WR-CALNAME:Chevrolet Car Club of Victoria
X-ORIGINAL-URL:https://www.chevcarclubvic.org.au
X-WR-CALDESC:Events for Chevrolet Car Club of Victoria
BEGIN:VTIMEZONE
TZID:Australia/Melbourne
BEGIN:STANDARD
TZOFFSETFROM:+1100
TZOFFSETTO:+1000
TZNAME:AEST
DTSTART:20250405T160000
END:STANDARD
BEGIN:DAYLIGHT
TZOFFSETFROM:+1000
TZOFFSETTO:+1100
TZNAME:AEDT
DTSTART:20251004T160000
END:DAYLIGHT
END:VTIMEZONE
BEGIN:VEVENT
DTSTART;TZID=Australia/Melbourne:20250820T120000
DTEND;TZID=Australia/Melbourne:20250820T170000
DTSTAMP:20260420T073343
CREATED:20250630T000407Z
LAST-MODIFIED:20250812T101257Z
UID:20492-1755691200-1755709200@www.chevcarclubvic.org.au
SUMMARY:STIG August Lunch
DESCRIPTION:The monthly STIG (Spending Their Inheritance Gracefully) \nThe venue for the September Lunch will be at Dandenong RSL (44-50 Clow St\, Dandenong ) \nIF you are considering joining the STIG’s there is always a spare seat at the table and if you contact me your email address will be added to our mailing list where you will automatically receive 14- and 7-day warnings on the timing of the next lunch with all venue details included…….          iancole1946@outlook.com \n
URL:https://www.chevcarclubvic.org.au/event/stig-august-lunch/
LOCATION:Dandenong RSL\, 44-50 Clow Street\, Dandenong\, VIC\, 3175\, Australia
CATEGORIES:Club Event
END:VEVENT
END:VCALENDAR