BEGIN:VCALENDAR
VERSION:2.0
PRODID:-//Chevrolet Car Club of Victoria - ECPv4.9.10//NONSGML v1.0//EN
CALSCALE:GREGORIAN
METHOD:PUBLISH
X-WR-CALNAME:Chevrolet Car Club of Victoria
X-ORIGINAL-URL:https://www.chevcarclubvic.org.au
X-WR-CALDESC:Events for Chevrolet Car Club of Victoria
BEGIN:VTIMEZONE
TZID:Australia/Melbourne
BEGIN:STANDARD
TZOFFSETFROM:+1100
TZOFFSETTO:+1000
TZNAME:AEST
DTSTART:20190406T160000
END:STANDARD
BEGIN:DAYLIGHT
TZOFFSETFROM:+1000
TZOFFSETTO:+1100
TZNAME:AEDT
DTSTART:20191005T160000
END:DAYLIGHT
END:VTIMEZONE
BEGIN:VEVENT
DTSTART;TZID=Australia/Melbourne:20190915T090000
DTEND;TZID=Australia/Melbourne:20190915T170000
DTSTAMP:20260419T190151
CREATED:20190908T130027Z
LAST-MODIFIED:20190908T130027Z
UID:14379-1568538000-1568566800@www.chevcarclubvic.org.au
SUMMARY:Swanpool Cinema
DESCRIPTION:The Pontiac and Cadillac Clubs are heading up to the historic Swanpool Cinema and have invited us to join them. A fingerfood lunch and screening of “Tucker: the man and his dream”  will be provided for the princely sum of $10 per person! Departure point is Yarra Glen Racecourse carpark at 9.15 am. Bookings are essential for catering purposes and must be made before the 12th of Sept. Contact Gary Heaslip of PCCA (details below) \n
URL:https://www.chevcarclubvic.org.au/event/swanpool-cinema/
LOCATION:Swanpool Cinema\, Midland Highway\, Swanpool\, Victoria\, Australia
CATEGORIES:Other Events
ATTACH;FMTTYPE=image/jpeg:https://www.chevcarclubvic.org.au/wp-content/uploads/2019/09/Swanpool-Cinema.jpg
END:VEVENT
END:VCALENDAR