BEGIN:VCALENDAR
VERSION:2.0
PRODID:-//Chevrolet Car Club of Victoria - ECPv4.9.10//NONSGML v1.0//EN
CALSCALE:GREGORIAN
METHOD:PUBLISH
X-WR-CALNAME:Chevrolet Car Club of Victoria
X-ORIGINAL-URL:https://www.chevcarclubvic.org.au
X-WR-CALDESC:Events for Chevrolet Car Club of Victoria
BEGIN:VTIMEZONE
TZID:Australia/Melbourne
BEGIN:STANDARD
TZOFFSETFROM:+1100
TZOFFSETTO:+1000
TZNAME:AEST
DTSTART:20250405T160000
END:STANDARD
BEGIN:DAYLIGHT
TZOFFSETFROM:+1000
TZOFFSETTO:+1100
TZNAME:AEDT
DTSTART:20251004T160000
END:DAYLIGHT
END:VTIMEZONE
BEGIN:VEVENT
DTSTART;TZID=Australia/Melbourne:20250309T073000
DTEND;TZID=Australia/Melbourne:20250309T170000
DTSTAMP:20260420T101957
CREATED:20250211T093304Z
LAST-MODIFIED:20250211T093518Z
UID:20236-1741505400-1741539600@www.chevcarclubvic.org.au
SUMMARY:Swanpool Motor Festival
DESCRIPTION:\nWe have attended this show on a few occasions\, usually we meet at Repco in Lilydale (near the old Holden dealership) @ 7:00 am for a 7:30 sharp departure.\nWHEN:  March 9th\, gates open at 8:00am\n\n\nWHERE: Albert Heaney Reserve\n(Swanpool Football Club)\n2426 Midland Hwy\, Swanpool\nGive me a call if you are interested in attending this run. Keith 0421287350\n\n  \n\n$1000 CASH PRIZE \nThe prize pool for the 2025 Swanpool Motor Festival will total more than $5000 including  $1000 IN CASH.  To win all you hae to do is enter a display vehicle (car\, bike\, truck tractor or anything with an engine) on the day and at 2pm we will draw the lucky winner who will take home $1000 IN CASH.  The rest of the prize pool will be drawn in the same manner.  There is no judging\, every entrant has the same chance to win. \nThe SMF for 2025 is being held on Sunday 9th march 2025 from 8am to 3pm  at the Albert Heaney Oval 2426 Midland Hwy Swanpool 3673. \nThere is a live band playing all day along with swap meet and market stalls\, food vans and drinks.  All proceeds go towards the maintenance and upkeep of the Albert Heaney Oval.  Further details on their website: www.swanpoolmotorfestival.com.au or facebook or our email: swanpoolmotorfestival@gmail.com  \n\n
URL:https://www.chevcarclubvic.org.au/event/swanpool-motor-festival-4/
CATEGORIES:Club Event
ATTACH;FMTTYPE=application/pdf:https://www.chevcarclubvic.org.au/wp-content/uploads/2025/02/swanpool.pdf
END:VEVENT
END:VCALENDAR